BEGIN:VCALENDAR
VERSION:2.0
PRODID:-// - ECPv6.15.20//NONSGML v1.0//EN
CALSCALE:GREGORIAN
METHOD:PUBLISH
X-ORIGINAL-URL:https://agirensembleevin.com
X-WR-CALDESC:Évènements pour 
REFRESH-INTERVAL;VALUE=DURATION:PT1H
X-Robots-Tag:noindex
X-PUBLISHED-TTL:PT1H
BEGIN:VTIMEZONE
TZID:Europe/Paris
BEGIN:DAYLIGHT
TZOFFSETFROM:+0100
TZOFFSETTO:+0200
TZNAME:CEST
DTSTART:20240331T010000
END:DAYLIGHT
BEGIN:STANDARD
TZOFFSETFROM:+0200
TZOFFSETTO:+0100
TZNAME:CET
DTSTART:20241027T010000
END:STANDARD
BEGIN:DAYLIGHT
TZOFFSETFROM:+0100
TZOFFSETTO:+0200
TZNAME:CEST
DTSTART:20250330T010000
END:DAYLIGHT
BEGIN:STANDARD
TZOFFSETFROM:+0200
TZOFFSETTO:+0100
TZNAME:CET
DTSTART:20251026T010000
END:STANDARD
BEGIN:DAYLIGHT
TZOFFSETFROM:+0100
TZOFFSETTO:+0200
TZNAME:CEST
DTSTART:20260329T010000
END:DAYLIGHT
BEGIN:STANDARD
TZOFFSETFROM:+0200
TZOFFSETTO:+0100
TZNAME:CET
DTSTART:20261025T010000
END:STANDARD
END:VTIMEZONE
BEGIN:VEVENT
DTSTART;VALUE=DATE:20250316
DTEND;VALUE=DATE:20250317
DTSTAMP:20260422T204539
CREATED:20250316T112152Z
LAST-MODIFIED:20250324T154240Z
UID:11-1742083200-1742169599@agirensembleevin.com
SUMMARY:Loto
DESCRIPTION:Loto \nsalle Dutilleul\, organisé par AMICAT
URL:https://agirensembleevin.com/evenement/loto/
LOCATION:Salle Dutilleul\, EVIN MALMAISON\, France
CATEGORIES:association
END:VEVENT
BEGIN:VEVENT
DTSTART;TZID=Europe/Paris:20250321T183000
DTEND;TZID=Europe/Paris:20250321T203000
DTSTAMP:20260422T204539
CREATED:20250316T173120Z
LAST-MODIFIED:20250324T154240Z
UID:226-1742581800-1742589000@agirensembleevin.com
SUMMARY:Vente Bruschetta
DESCRIPTION:Vente Bruschetta \nsalle Polyvalente Ecole Méresse\, \norganisée par l’APE Méresse \n 
URL:https://agirensembleevin.com/evenement/vente-bruchetta/
LOCATION:Ecole Méresse
CATEGORIES:association
ATTACH;FMTTYPE=image/jpeg:https://agirensembleevin.com/wp-content/uploads/2025/03/bruschetta-APE-MERESSE-e1742310492871.jpg
END:VEVENT
BEGIN:VEVENT
DTSTART;TZID=Europe/Paris:20250322T100000
DTEND;TZID=Europe/Paris:20250322T120000
DTSTAMP:20260422T204539
CREATED:20250316T173233Z
LAST-MODIFIED:20250324T154240Z
UID:229-1742637600-1742644800@agirensembleevin.com
SUMMARY:inauguration CAHC en folie
DESCRIPTION:
URL:https://agirensembleevin.com/evenement/inauguration-cahc-en-folie/
CATEGORIES:association
ATTACH;FMTTYPE=image/jpeg:https://agirensembleevin.com/wp-content/uploads/2025/03/cahc-en-folie.jpeg
END:VEVENT
BEGIN:VEVENT
DTSTART;TZID=Europe/Paris:20250322T190000
DTEND;TZID=Europe/Paris:20250322T235900
DTSTAMP:20260422T204539
CREATED:20250316T112658Z
LAST-MODIFIED:20250324T154240Z
UID:24-1742670000-1742687940@agirensembleevin.com
SUMMARY:Soirée années 80
DESCRIPTION:soirée années 80 \nsalle Dutilleul \norganisée par l’APE Méresse
URL:https://agirensembleevin.com/evenement/soiree-annees-80/
LOCATION:Salle Dutilleul\, EVIN MALMAISON\, France
CATEGORIES:association
ATTACH;FMTTYPE=image/jpeg:https://agirensembleevin.com/wp-content/uploads/2025/03/soiree-80-APE-MERESSE-2-e1742313252507.jpg
END:VEVENT
BEGIN:VEVENT
DTSTART;VALUE=DATE:20250329
DTEND;VALUE=DATE:20250330
DTSTAMP:20260422T204539
CREATED:20250316T112854Z
LAST-MODIFIED:20250324T154240Z
UID:27-1743206400-1743292799@agirensembleevin.com
SUMMARY:Rassemblement d’orchestre de jeunes
DESCRIPTION:Rassemblement d’orchestre de jeunes \nsalle Dutilleul \norganisée par la Lyre Evinoise
URL:https://agirensembleevin.com/evenement/rassemblement-dorchestre-de-jeunes/
LOCATION:Salle Dutilleul\, EVIN MALMAISON\, France
CATEGORIES:association
ATTACH;FMTTYPE=image/jpeg:https://agirensembleevin.com/wp-content/uploads/2025/03/rassemblement-lyre-e1742313309686.jpg
END:VEVENT
BEGIN:VEVENT
DTSTART;TZID=Europe/Paris:20250330T160000
DTEND;TZID=Europe/Paris:20250330T200000
DTSTAMP:20260422T204539
CREATED:20250317T201723Z
LAST-MODIFIED:20250324T154240Z
UID:426-1743350400-1743364800@agirensembleevin.com
SUMMARY:Concert de Printemps
DESCRIPTION:-388Days\n				-2Hours\n				-45Minutes\n				-39Seconds\n			\nConcert de Printemps \nSalle Dutilleul \nOrganisée par la Lyre Evinoise
URL:https://agirensembleevin.com/evenement/concert-de-printemps/
LOCATION:Salle Dutilleul\, EVIN MALMAISON\, France
CATEGORIES:association
ATTACH;FMTTYPE=image/jpeg:https://agirensembleevin.com/wp-content/uploads/2025/03/concert-printemps-e1742313321473.jpg
END:VEVENT
END:VCALENDAR