BEGIN:VCALENDAR
VERSION:2.0
PRODID:-// - ECPv6.15.20//NONSGML v1.0//EN
CALSCALE:GREGORIAN
METHOD:PUBLISH
X-ORIGINAL-URL:https://agirensembleevin.com
X-WR-CALDESC:Évènements pour 
REFRESH-INTERVAL;VALUE=DURATION:PT1H
X-Robots-Tag:noindex
X-PUBLISHED-TTL:PT1H
BEGIN:VTIMEZONE
TZID:Europe/Paris
BEGIN:DAYLIGHT
TZOFFSETFROM:+0100
TZOFFSETTO:+0200
TZNAME:CEST
DTSTART:20240331T010000
END:DAYLIGHT
BEGIN:STANDARD
TZOFFSETFROM:+0200
TZOFFSETTO:+0100
TZNAME:CET
DTSTART:20241027T010000
END:STANDARD
BEGIN:DAYLIGHT
TZOFFSETFROM:+0100
TZOFFSETTO:+0200
TZNAME:CEST
DTSTART:20250330T010000
END:DAYLIGHT
BEGIN:STANDARD
TZOFFSETFROM:+0200
TZOFFSETTO:+0100
TZNAME:CET
DTSTART:20251026T010000
END:STANDARD
BEGIN:DAYLIGHT
TZOFFSETFROM:+0100
TZOFFSETTO:+0200
TZNAME:CEST
DTSTART:20260329T010000
END:DAYLIGHT
BEGIN:STANDARD
TZOFFSETFROM:+0200
TZOFFSETTO:+0100
TZNAME:CET
DTSTART:20261025T010000
END:STANDARD
END:VTIMEZONE
BEGIN:VEVENT
DTSTART;VALUE=DATE:20250405
DTEND;VALUE=DATE:20250406
DTSTAMP:20260422T192524
CREATED:20250316T204837Z
LAST-MODIFIED:20250401T213720Z
UID:240-1743811200-1743897599@agirensembleevin.com
SUMMARY:Foot - Plateaux inter régional u8-u9
DESCRIPTION:Plateaux inter régional u8-u9 \nstade de foot \nOrganisé par AAE EVIN FOOTBALL
URL:https://agirensembleevin.com/evenement/foot-plateaux-inter-regional-u8-u9/
LOCATION:stade de foot
CATEGORIES:association
ATTACH;FMTTYPE=image/jpeg:https://agirensembleevin.com/wp-content/uploads/2025/03/FB_IMG_1743543283577-e1743543406586.jpg
END:VEVENT
BEGIN:VEVENT
DTSTART;TZID=Europe/Paris:20250412T080000
DTEND;TZID=Europe/Paris:20250412T120000
DTSTAMP:20260422T192524
CREATED:20250316T173432Z
LAST-MODIFIED:20250324T154240Z
UID:234-1744444800-1744459200@agirensembleevin.com
SUMMARY:Collecte don du sang
DESCRIPTION:Collecte don du sang\, \nsalle Dutilleul\, \norganisée par l’Amicale des donneurs de sang bénévoles d’Evin-Malmaison en partenariat avec l’EFS
URL:https://agirensembleevin.com/evenement/collecte-don-du-sang-2/
LOCATION:Salle Dutilleul\, EVIN MALMAISON\, France
CATEGORIES:association
ATTACH;FMTTYPE=image/jpeg:https://agirensembleevin.com/wp-content/uploads/2025/03/don-du-sang0412-e1742543334876.jpg
END:VEVENT
BEGIN:VEVENT
DTSTART;TZID=Europe/Paris:20250412T090000
DTEND;TZID=Europe/Paris:20250412T160000
DTSTAMP:20260422T192524
CREATED:20250320T075811Z
LAST-MODIFIED:20251128T093041Z
UID:657-1744448400-1744473600@agirensembleevin.com
SUMMARY:marché aux puces
DESCRIPTION:Marché aux puces \nplace Salengro \norganisée par l’association CAHC en Folie
URL:https://agirensembleevin.com/evenement/marche-aux-puces/
LOCATION:Place Salengro (Eglise)
CATEGORIES:association
ATTACH;FMTTYPE=image/png:https://agirensembleevin.com/wp-content/uploads/2025/03/marche-CAHC.png
END:VEVENT
BEGIN:VEVENT
DTSTART;TZID=Europe/Paris:20250413T093000
DTEND;TZID=Europe/Paris:20250413T120000
DTSTAMP:20260422T192524
CREATED:20250323T214546Z
LAST-MODIFIED:20250324T154220Z
UID:743-1744536600-1744545600@agirensembleevin.com
SUMMARY:Nettoyons la nature
DESCRIPTION:Opération « Nettoyons la nature » \nOrganisée par les élus de l’opposition en partenariat avec l’association « les amis d’agir ensemble »
URL:https://agirensembleevin.com/evenement/nettoyons-la-nature/
LOCATION:Place Salengro (Eglise)
CATEGORIES:association
ATTACH;FMTTYPE=image/jpeg:https://agirensembleevin.com/wp-content/uploads/2025/03/IMG-20250323-WA0025-e1742766501267.jpg
END:VEVENT
BEGIN:VEVENT
DTSTART;VALUE=DATE:20250426
DTEND;VALUE=DATE:20250427
DTSTAMP:20260422T192524
CREATED:20250316T221919Z
LAST-MODIFIED:20250324T154220Z
UID:344-1745625600-1745711999@agirensembleevin.com
SUMMARY:Chasse à l'oeuf / ferme itinérante
DESCRIPTION:Chasse à l’œuf et ferme itinérante \nOrganisée par l’APE les petits bambins
URL:https://agirensembleevin.com/evenement/chasse-a-loeuf-ferme-itinerante/
LOCATION:Salle Dutilleul\, EVIN MALMAISON\, France
CATEGORIES:association
ATTACH;FMTTYPE=image/jpeg:https://agirensembleevin.com/wp-content/uploads/2025/03/26avril2025-1-e1742313275109.jpg
END:VEVENT
BEGIN:VEVENT
DTSTART;TZID=Europe/Paris:20250427T100000
DTEND;TZID=Europe/Paris:20250427T120000
DTSTAMP:20260422T192524
CREATED:20250407T145415Z
LAST-MODIFIED:20250407T145446Z
UID:836-1745748000-1745755200@agirensembleevin.com
SUMMARY:Chasse à l'oeuf au terril
DESCRIPTION:Chasse à l’oeuf au terril \norganisée par l’APE Méresse
URL:https://agirensembleevin.com/evenement/chasse-a-loeuf-au-terril/
LOCATION:Terril
CATEGORIES:association
ATTACH;FMTTYPE=image/jpeg:https://agirensembleevin.com/wp-content/uploads/2025/03/WhatsApp-Image-2025-04-07-at-16.12.24-e1744037419476.jpeg
END:VEVENT
BEGIN:VEVENT
DTSTART;TZID=Europe/Paris:20250427T100000
DTEND;TZID=Europe/Paris:20250427T170000
DTSTAMP:20260422T192524
CREATED:20250418T093410Z
LAST-MODIFIED:20251124T112919Z
UID:880-1745748000-1745773200@agirensembleevin.com
SUMMARY:Pétanque - Mémorial MARCO
DESCRIPTION:Jet du But 10h \ndoublettes formées \norganisé par la Boule Noire
URL:https://agirensembleevin.com/evenement/petanque-memorial-marco/
LOCATION:Stade Municipal
CATEGORIES:association
ATTACH;FMTTYPE=image/jpeg:https://agirensembleevin.com/wp-content/uploads/2025/04/250427-boule-noire-e1744968794329.jpg
END:VEVENT
END:VCALENDAR