BEGIN:VCALENDAR
VERSION:2.0
PRODID:-// - ECPv6.15.20//NONSGML v1.0//EN
CALSCALE:GREGORIAN
METHOD:PUBLISH
X-ORIGINAL-URL:https://agirensembleevin.com
X-WR-CALDESC:Évènements pour 
REFRESH-INTERVAL;VALUE=DURATION:PT1H
X-Robots-Tag:noindex
X-PUBLISHED-TTL:PT1H
BEGIN:VTIMEZONE
TZID:Europe/Paris
BEGIN:DAYLIGHT
TZOFFSETFROM:+0100
TZOFFSETTO:+0200
TZNAME:CEST
DTSTART:20240331T010000
END:DAYLIGHT
BEGIN:STANDARD
TZOFFSETFROM:+0200
TZOFFSETTO:+0100
TZNAME:CET
DTSTART:20241027T010000
END:STANDARD
BEGIN:DAYLIGHT
TZOFFSETFROM:+0100
TZOFFSETTO:+0200
TZNAME:CEST
DTSTART:20250330T010000
END:DAYLIGHT
BEGIN:STANDARD
TZOFFSETFROM:+0200
TZOFFSETTO:+0100
TZNAME:CET
DTSTART:20251026T010000
END:STANDARD
BEGIN:DAYLIGHT
TZOFFSETFROM:+0100
TZOFFSETTO:+0200
TZNAME:CEST
DTSTART:20260329T010000
END:DAYLIGHT
BEGIN:STANDARD
TZOFFSETFROM:+0200
TZOFFSETTO:+0100
TZNAME:CET
DTSTART:20261025T010000
END:STANDARD
END:VTIMEZONE
BEGIN:VEVENT
DTSTART;TZID=Europe/Paris:20250402T190000
DTEND;TZID=Europe/Paris:20250402T210000
DTSTAMP:20260423T010911
CREATED:20250320T123131Z
LAST-MODIFIED:20250324T154240Z
UID:664-1743620400-1743627600@agirensembleevin.com
SUMMARY:Conseil Municipal
DESCRIPTION:Conseil Municipal \nsera retransmis sur la page facebook
URL:https://agirensembleevin.com/evenement/conseil-municipal/
LOCATION:Mairie
CATEGORIES:Municipalité
ATTACH;FMTTYPE=image/png:https://agirensembleevin.com/wp-content/uploads/2025/03/evin.png
END:VEVENT
BEGIN:VEVENT
DTSTART;VALUE=DATE:20250406
DTEND;VALUE=DATE:20250407
DTSTAMP:20260423T010911
CREATED:20250316T172923Z
LAST-MODIFIED:20250324T154240Z
UID:224-1743897600-1743983999@agirensembleevin.com
SUMMARY:Spectacle Forest Pooky
DESCRIPTION:Spectacle Forest Pooky\, \nSalle Dutilleul
URL:https://agirensembleevin.com/evenement/spectacle-forest-pooky-2/
LOCATION:Salle Dutilleul\, EVIN MALMAISON\, France
CATEGORIES:Municipalité
ATTACH;FMTTYPE=image/jpeg:https://agirensembleevin.com/wp-content/uploads/2025/03/FB_IMG_1742577567140-e1742577693400.jpg
END:VEVENT
BEGIN:VEVENT
DTSTART;TZID=Europe/Paris:20250427T103000
DTEND;TZID=Europe/Paris:20250427T120000
DTSTAMP:20260423T010911
CREATED:20250316T210050Z
LAST-MODIFIED:20250418T133922Z
UID:257-1745749800-1745755200@agirensembleevin.com
SUMMARY:Cérémonie officielle
DESCRIPTION:Cérémonie officielle : \nJournée Nationale du souvenir des victimes de la déportation
URL:https://agirensembleevin.com/evenement/ceremonie-officielle-2/
LOCATION:Hotel de VIlle
CATEGORIES:Municipalité
ATTACH;FMTTYPE=image/jpeg:https://agirensembleevin.com/wp-content/uploads/2025/04/FB_IMG_1744983301610-e1744983468574.jpg
END:VEVENT
END:VCALENDAR